BEGIN:VCALENDAR
VERSION:2.0
PRODID:-//Golfe Saint-Tropez//Events//FR
CALSCALE:GREGORIAN
METHOD:PUBLISH
BEGIN:VEVENT
UID:69e59003a7b88@golfe-saint-tropez.com
DTSTAMP:20260420T023131Z
DTSTART:20260716T000000
DTEND:20260716T000000
SUMMARY:Musique au village – UP Live Band
DESCRIPTION:Plongez dans l’ambiance chaleureuse de Ramatuelle avec le concert Musique au village – UP Live Band\, un événement incontournable du […]\n\nPlus d'infos : https://golfe-saint-tropez.com/evenement/ramatuelle/musique-au-village-up-live-band/
LOCATION:Place de l'Ormeau\, 83350 Ramatuelle (devant la fontaine)
STATUS:CONFIRMED
SEQUENCE:0
END:VEVENT
END:VCALENDAR
