BEGIN:VCALENDAR
VERSION:2.0
PRODID:-//Golfe Saint-Tropez//Events//FR
CALSCALE:GREGORIAN
METHOD:PUBLISH
BEGIN:VEVENT
UID:69eb3d19b1301@golfe-saint-tropez.com
DTSTAMP:20260424T095121Z
DTSTART:20260816T000000
DTEND:20260816T000000
SUMMARY:One man show Gospel avec Mister Blaiz
DESCRIPTION:Plongez dans l’émotion pure avec le one man show Gospel de Mister Blaiz\, un événement incontournable du Golfe de Saint-Tropez […]\n\nPlus d'infos : https://golfe-saint-tropez.com/evenement/ramatuelle/one-man-show-gospel-avec-mister-blaiz/
LOCATION:Eglise de Ramatuelle\, Place Général de Gaulle\, 83350 Ramatuelle
STATUS:CONFIRMED
SEQUENCE:0
END:VEVENT
END:VCALENDAR
