BEGIN:VCALENDAR
VERSION:2.0
PRODID:-//Golfe Saint-Tropez//Events//FR
CALSCALE:GREGORIAN
METHOD:PUBLISH
BEGIN:VEVENT
UID:69e54b6da3e76@golfe-saint-tropez.com
DTSTAMP:20260419T213853Z
DTSTART:20260604T000000
DTEND:20260604T000000
SUMMARY:Randonnée “Sur les pas des douaniers du Cap Taillat”
DESCRIPTION:Plongez dans l’histoire et la nature préservée du Golfe de Saint-Tropez lors de la randonnée « Sur les pas des […]\n\nPlus d'infos : https://golfe-saint-tropez.com/evenement/ramatuelle/randonnee-sur-les-pas-des-douaniers-du-cap-taillat-2/
LOCATION:Plage de l'Escalet\, 83350 Ramatuelle
STATUS:CONFIRMED
SEQUENCE:0
END:VEVENT
END:VCALENDAR
