BEGIN:VCALENDAR
VERSION:2.0
PRODID:-//Golfe Saint-Tropez//Events//FR
CALSCALE:GREGORIAN
METHOD:PUBLISH
BEGIN:VEVENT
UID:69e5d2d6b9bc7@golfe-saint-tropez.com
DTSTAMP:20260420T071638Z
DTSTART:20260929T000000
DTEND:20260929T000000
SUMMARY:Randonnée “Sur les pas des douaniers du Cap Taillat”
DESCRIPTION:Plongez dans l’histoire et la beauté sauvage du Golfe de Saint-Tropez avec la randonnée « Sur les pas des douaniers […]\n\nPlus d'infos : https://golfe-saint-tropez.com/evenement/ramatuelle/randonnee-sur-les-pas-des-douaniers-du-cap-taillat-3/
LOCATION:Plage de l'Escalet\, 83350 Ramatuelle
STATUS:CONFIRMED
SEQUENCE:0
END:VEVENT
END:VCALENDAR
