BEGIN:VCALENDAR
VERSION:2.0
PRODID:-//Golfe Saint-Tropez//Events//FR
CALSCALE:GREGORIAN
METHOD:PUBLISH
BEGIN:VEVENT
UID:69e5646153575@golfe-saint-tropez.com
DTSTAMP:20260419T232521Z
DTSTART:20260823T000000
DTEND:20260823T000000
SUMMARY:The Beatles legend
DESCRIPTION:Plongez dans l’univers mythique des Beatles le temps d’une soirée magique à Ramatuelle ! Le dimanche 23 août 2026\, le […]\n\nPlus d'infos : https://golfe-saint-tropez.com/evenement/ramatuelle/the-beatles-legend/
LOCATION:Théâtre de Verdure\, La Rocade\, 83350 Ramatuelle
STATUS:CONFIRMED
SEQUENCE:0
END:VEVENT
END:VCALENDAR
