BEGIN:VCALENDAR
VERSION:2.0
PRODID:-//Golfe Saint-Tropez//Events//FR
CALSCALE:GREGORIAN
METHOD:PUBLISH
BEGIN:VEVENT
UID:69e4e2d8c81d6@golfe-saint-tropez.com
DTSTAMP:20260419T141240Z
DTSTART:20261006T000000
DTEND:20261027T000000
SUMMARY:Visite insolite : Au cœur de Ramatuelle en octobre
DESCRIPTION:Plongez au cœur de Ramatuelle lors d’une visite insolite qui vous révélera les secrets les mieux gardés de ce village […]\n\nPlus d'infos : https://golfe-saint-tropez.com/evenement/ramatuelle/visite-insolite-au-coeur-de-ramatuelle-en-octobre-2/
LOCATION:Église de Ramatuelle\, Place Général de Gaulle\, 83350 Ramatuelle
STATUS:CONFIRMED
SEQUENCE:0
END:VEVENT
END:VCALENDAR
