BEGIN:VCALENDAR
VERSION:2.0
PRODID:-//Golfe Saint-Tropez//Events//FR
CALSCALE:GREGORIAN
METHOD:PUBLISH
BEGIN:VEVENT
UID:69ebf19e7f736@golfe-saint-tropez.com
DTSTAMP:20260424T224134Z
DTSTART:20260524T000000
DTEND:20260524T000000
SUMMARY:Concert – Une Heure avec l’Orgue – Bernard FOCCROULE
DESCRIPTION:Amateurs de musique classique et de lieux d’exception\, ne manquez pas cet événement incontournable ! Le dimanche 24 mai 2026\, […]\n\nPlus d'infos : https://golfe-saint-tropez.com/evenement/saint-tropez/concert-une-heure-avec-lorgue-bernard-foccroule/
LOCATION:Église Notre-Dame-de-l'Assomption (Adresse à confirmer)\, Saint-Tropez
STATUS:CONFIRMED
SEQUENCE:0
END:VEVENT
END:VCALENDAR
