BEGIN:VCALENDAR
VERSION:2.0
PRODID:-//Golfe Saint-Tropez//Events//FR
CALSCALE:GREGORIAN
METHOD:PUBLISH
BEGIN:VEVENT
UID:69e53bda3d986@golfe-saint-tropez.com
DTSTAMP:20260419T203226Z
DTSTART:20260427T000000
DTEND:20260427T000000
SUMMARY:Conférence sur le Titanic
DESCRIPTION:Plongez dans les profondeurs de l’histoire avec une conférence exceptionnelle sur le Titanic\, organisée dans le cadre enchanteur du Golfe […]\n\nPlus d'infos : https://golfe-saint-tropez.com/evenement/saint-tropez/conference-sur-le-titanic/
LOCATION:1 Traverse de la Gendarmerie\, 83990 Saint-Tropez
STATUS:CONFIRMED
SEQUENCE:0
END:VEVENT
END:VCALENDAR
