BEGIN:VCALENDAR
VERSION:2.0
PRODID:-//Golfe Saint-Tropez//Events//FR
CALSCALE:GREGORIAN
METHOD:PUBLISH
BEGIN:VEVENT
UID:69e5fa8d2876c@golfe-saint-tropez.com
DTSTAMP:20260420T100605Z
DTSTART:20260805T000000
DTEND:20260805T000000
SUMMARY:Délices Sonores
DESCRIPTION:Plongez dans l’ambiance électrisante de Délices Sonores\, l’événement incontournable de l’été dans le Golfe de Saint-Tropez ! Le mercredi 5 […]\n\nPlus d'infos : https://golfe-saint-tropez.com/evenement/saint-tropez/delices-sonores/
LOCATION:1\, Montée de la Citadelle\, 83990 Saint-Tropez
STATUS:CONFIRMED
SEQUENCE:0
END:VEVENT
END:VCALENDAR
