BEGIN:VCALENDAR
VERSION:2.0
PRODID:-//Golfe Saint-Tropez//Events//FR
CALSCALE:GREGORIAN
METHOD:PUBLISH
BEGIN:VEVENT
UID:69e523f339d74@golfe-saint-tropez.com
DTSTAMP:20260419T185027Z
DTSTART:20260416T000000
DTEND:20270307T000000
SUMMARY:Exposition – 70ème anniversaire de la sortie du film « Et Dieu… créa la femme »
DESCRIPTION:Plongez dans l’histoire du cinéma et de Saint-Tropez à l’occasion d’un événement incontournable : l’exposition célébrant le 70ème anniversaire du […]\n\nPlus d'infos : https://golfe-saint-tropez.com/evenement/saint-tropez/exposition-70eme-anniversaire-de-la-sortie-du-film-et-dieu-crea-la-femme/
LOCATION:2\, place Blanqui\, 83990 Saint-Tropez
STATUS:CONFIRMED
SEQUENCE:0
END:VEVENT
END:VCALENDAR
