BEGIN:VCALENDAR
VERSION:2.0
PRODID:-//Golfe Saint-Tropez//Events//FR
CALSCALE:GREGORIAN
METHOD:PUBLISH
BEGIN:VEVENT
UID:69e7615fd36bf@golfe-saint-tropez.com
DTSTAMP:20260421T113703Z
DTSTART:20260817T000000
DTEND:20260831T000000
SUMMARY:Exposition – Mason Art
DESCRIPTION:Plongez dans l’univers artistique contemporain avec l’exposition Mason Art\, un événement incontournable du Golfe de Saint-Tropez cet été 2026. Du […]\n\nPlus d'infos : https://golfe-saint-tropez.com/evenement/saint-tropez/exposition-mason-art/
LOCATION:Salle Jean-Despas\, 16 boulevard Vasserot\, 83990 Saint-Tropez
STATUS:CONFIRMED
SEQUENCE:0
END:VEVENT
END:VCALENDAR
