BEGIN:VCALENDAR
VERSION:2.0
PRODID:-//Golfe Saint-Tropez//Events//FR
CALSCALE:GREGORIAN
METHOD:PUBLISH
BEGIN:VEVENT
UID:69e5a914a391a@golfe-saint-tropez.com
DTSTAMP:20260420T041828Z
DTSTART:20260801T000000
DTEND:20260811T000000
SUMMARY:Festival « Les Nuits du Château de la Moutte »
DESCRIPTION:Plongez dans l’émotion pure avec le Festival « Les Nuits du Château de la Moutte »\, un événement incontournable du […]\n\nPlus d'infos : https://golfe-saint-tropez.com/evenement/saint-tropez/festival-les-nuits-du-chateau-de-la-moutte/
LOCATION:133\, chemin de la Moutte\, Domaine Emile Ollivier\, 83990 Saint-Tropez
STATUS:CONFIRMED
SEQUENCE:0
END:VEVENT
END:VCALENDAR
