BEGIN:VCALENDAR
VERSION:2.0
PRODID:-//Golfe Saint-Tropez//Events//FR
CALSCALE:GREGORIAN
METHOD:PUBLISH
BEGIN:VEVENT
UID:69e5951db30d9@golfe-saint-tropez.com
DTSTAMP:20260420T025317Z
DTSTART:20260820T063618
DTEND:20260826T063618
SUMMARY:Festival Les scènes du Château de la Moutte 4e édition
DESCRIPTION:Plongez dans l’univers magique du Festival Les Scènes du Château de la Moutte\, un événement incontournable du Golfe de Saint-Tropez […]\n\nPlus d'infos : https://golfe-saint-tropez.com/evenement/saint-tropez/festival-les-scenes-du-chateau-de-la-moutte-4e-edition/
LOCATION:133\, Chemin de la Moutte\, 83990 Saint-Tropez
STATUS:CONFIRMED
SEQUENCE:0
END:VEVENT
END:VCALENDAR
