BEGIN:VCALENDAR
VERSION:2.0
PRODID:-//Golfe Saint-Tropez//Events//FR
CALSCALE:GREGORIAN
METHOD:PUBLISH
BEGIN:VEVENT
UID:69e5258f234d1@golfe-saint-tropez.com
DTSTAMP:20260419T185719Z
DTSTART:20260826T063148
DTEND:20260826T063148
SUMMARY:Festival Les scènes du Château de la Moutte – Cyrano de Bergerac
DESCRIPTION:Plongez dans l’univers intemporel de Cyrano de Bergerac lors d’un événement culturel incontournable dans le Golfe de Saint-Tropez ! Le […]\n\nPlus d'infos : https://golfe-saint-tropez.com/evenement/saint-tropez/festival-les-scenes-du-chateau-de-la-moutte-cyrano-de-bergerac/
LOCATION:Château de la Moutte - Domaine Emile Ollivier\, 133 Chemin de la Moutte\, 83990 Saint-Tropez
STATUS:CONFIRMED
SEQUENCE:0
END:VEVENT
END:VCALENDAR
