BEGIN:VCALENDAR
VERSION:2.0
PRODID:-//Golfe Saint-Tropez//Events//FR
CALSCALE:GREGORIAN
METHOD:PUBLISH
BEGIN:VEVENT
UID:69e595fee4ee5@golfe-saint-tropez.com
DTSTAMP:20260420T025702Z
DTSTART:20260820T000000
DTEND:20260820T000000
SUMMARY:Festival Les scènes du Château de la Moutte – Elie Semoun : « Cactus »
DESCRIPTION:Plongez dans l’univers piquant et décalé d’Elie Semoun avec son nouveau spectacle « Cactus » ! Cet événement incontournable du […]\n\nPlus d'infos : https://golfe-saint-tropez.com/evenement/saint-tropez/festival-les-scenes-du-chateau-de-la-moutte-elie-semoun-cactus/
LOCATION:Château de la Moutte - Domaine Emile Ollivier\, 133 Chemin de la Moutte\, 83990 Saint-Tropez
STATUS:CONFIRMED
SEQUENCE:0
END:VEVENT
END:VCALENDAR
