BEGIN:VCALENDAR
VERSION:2.0
PRODID:-//Golfe Saint-Tropez//Events//FR
CALSCALE:GREGORIAN
METHOD:PUBLISH
BEGIN:VEVENT
UID:69e56637a9787@golfe-saint-tropez.com
DTSTAMP:20260419T233311Z
DTSTART:20260822T000000
DTEND:20260822T000000
SUMMARY:Festival Les scènes du Château de la Moutte – The Black Blues Brothers – Cirque musical
DESCRIPTION:Plongez dans l’univers électrisant du Festival Les scènes du Château de la Moutte avec The Black Blues Brothers – Cirque […]\n\nPlus d'infos : https://golfe-saint-tropez.com/evenement/saint-tropez/festival-les-scenes-du-chateau-de-la-moutte-the-black-blues-brothers-cirque-musical/
LOCATION:Château de la Moutte - Domaine Emile Ollivier\, 133 Chemin de la Moutte\, 83990 Saint-Tropez
STATUS:CONFIRMED
SEQUENCE:0
END:VEVENT
END:VCALENDAR
