BEGIN:VCALENDAR
VERSION:2.0
PRODID:-//Golfe Saint-Tropez//Events//FR
CALSCALE:GREGORIAN
METHOD:PUBLISH
BEGIN:VEVENT
UID:69e57f43b2395@golfe-saint-tropez.com
DTSTAMP:20260420T012003Z
DTSTART:20260821T000000
DTEND:20260821T000000
SUMMARY:Festival Les scènes du Château de la Moutte – The Opera Locos
DESCRIPTION:Plongez dans l’univers déjanté de l’opéra avec The Opera Locos\, un événement incontournable du Golfe de Saint-Tropez ! Le 21 […]\n\nPlus d'infos : https://golfe-saint-tropez.com/evenement/saint-tropez/festival-les-scenes-du-chateau-de-la-moutte-the-opera-locos/
LOCATION:133\, Chemin de la Moutte\, 83990 Saint-Tropez
STATUS:CONFIRMED
SEQUENCE:0
END:VEVENT
END:VCALENDAR
