BEGIN:VCALENDAR
VERSION:2.0
PRODID:-//Golfe Saint-Tropez//Events//FR
CALSCALE:GREGORIAN
METHOD:PUBLISH
BEGIN:VEVENT
UID:69e55152db0e1@golfe-saint-tropez.com
DTSTAMP:20260419T220402Z
DTSTART:20260823T063300
DTEND:20260823T063300
SUMMARY:Festival Les scènes du Château de la Moutte – Tribute To Elvis
DESCRIPTION:Plongez dans l’univers mythique d’Elvis Presley lors du Festival Les scènes du Château de la Moutte – Tribute To Elvis\, […]\n\nPlus d'infos : https://golfe-saint-tropez.com/evenement/saint-tropez/festival-les-scenes-du-chateau-de-la-moutte-tribute-to-elvis/
LOCATION:Château de la Moutte - Domaine Emile Ollivier\, 133 Chemin de la Moutte\, 83990 Saint-Tropez
STATUS:CONFIRMED
SEQUENCE:0
END:VEVENT
END:VCALENDAR
