BEGIN:VCALENDAR
VERSION:2.0
PRODID:-//Golfe Saint-Tropez//Events//FR
CALSCALE:GREGORIAN
METHOD:PUBLISH
BEGIN:VEVENT
UID:69e53c74ceb76@golfe-saint-tropez.com
DTSTAMP:20260419T203500Z
DTSTART:20260825T062916
DTEND:20260825T062916
SUMMARY:Festival Les scènes du Château de la Moutte – YA D’LA JOIE Un irrésistible cabaret déjanté
DESCRIPTION:Plongez dans l’univers déjanté du Festival Les scènes du Château de la Moutte avec « YA D’LA JOIE »\, un […]\n\nPlus d'infos : https://golfe-saint-tropez.com/evenement/saint-tropez/festival-les-scenes-du-chateau-de-la-moutte-ya-dla-joie-un-irresistible-cabaret-dejante/
LOCATION:Château de la Moutte - Domaine Emile Ollivier\, 133 Chemin de la Moutte\, 83990 Saint-Tropez
STATUS:CONFIRMED
SEQUENCE:0
END:VEVENT
END:VCALENDAR
