BEGIN:VCALENDAR
VERSION:2.0
PRODID:-//Golfe Saint-Tropez//Events//FR
CALSCALE:GREGORIAN
METHOD:PUBLISH
BEGIN:VEVENT
UID:69e80d6a31790@golfe-saint-tropez.com
DTSTAMP:20260421T235106Z
DTSTART:20260621T044943
DTEND:20260621T044943
SUMMARY:Fête de la musique
DESCRIPTION:Plongez dans l’ambiance festive du Golfe de Saint-Tropez à l’occasion de la Fête de la Musique\, un événement incontournable qui […]\n\nPlus d'infos : https://golfe-saint-tropez.com/evenement/saint-tropez/fete-de-la-musique/
LOCATION:Saint Tropez 83990
STATUS:CONFIRMED
SEQUENCE:0
END:VEVENT
END:VCALENDAR
