BEGIN:VCALENDAR
VERSION:2.0
PRODID:-//Golfe Saint-Tropez//Events//FR
CALSCALE:GREGORIAN
METHOD:PUBLISH
BEGIN:VEVENT
UID:69e550266f454@golfe-saint-tropez.com
DTSTAMP:20260419T215902Z
DTSTART:20260513T000000
DTEND:20260520T000000
SUMMARY:Fête foraine de la Bravade
DESCRIPTION:Plongez dans l’ambiance festive du Golfe de Saint-Tropez avec la Fête foraine de la Bravade\, un événement incontournable qui anime […]\n\nPlus d'infos : https://golfe-saint-tropez.com/evenement/saint-tropez/fete-foraine-de-la-bravade/
LOCATION:Place des Lices\, 83990 Saint-Tropez
STATUS:CONFIRMED
SEQUENCE:0
END:VEVENT
END:VCALENDAR
