BEGIN:VCALENDAR
VERSION:2.0
PRODID:-//Golfe Saint-Tropez//Events//FR
CALSCALE:GREGORIAN
METHOD:PUBLISH
BEGIN:VEVENT
UID:69e57f87c15ed@golfe-saint-tropez.com
DTSTAMP:20260420T012111Z
DTSTART:20260726T000000
DTEND:20260726T000000
SUMMARY:Foire artisanale de la Sainte-Anne
DESCRIPTION:Plongez dans l’ambiance chaleureuse et créative de la Foire artisanale de la Sainte-Anne\, l’événement incontournable de l’été dans le Golfe […]\n\nPlus d'infos : https://golfe-saint-tropez.com/evenement/saint-tropez/foire-artisanale-de-la-sainte-anne/
LOCATION:Place des Lices\, 83990 Saint-Tropez
STATUS:CONFIRMED
SEQUENCE:0
END:VEVENT
END:VCALENDAR
