BEGIN:VCALENDAR
VERSION:2.0
PRODID:-//Golfe Saint-Tropez//Events//FR
CALSCALE:GREGORIAN
METHOD:PUBLISH
BEGIN:VEVENT
UID:69e77a1192cb2@golfe-saint-tropez.com
DTSTAMP:20260421T132225Z
DTSTART:20260822T000000
DTEND:20260823T000000
SUMMARY:L’Aoûtienne – V.S.C Trophée Pourchet – Régate
DESCRIPTION:Vivez l’émotion des régates au cœur du Golfe de Saint-Tropez avec l’Aoûtienne – V.S.C Trophée Pourchet ! Cet événement nautique […]\n\nPlus d'infos : https://golfe-saint-tropez.com/evenement/saint-tropez/laoutienne-v-s-c-trophee-pourchet-regate/
LOCATION:Société Nautique de Saint-Tropez\, 83992 Saint-Tropez
STATUS:CONFIRMED
SEQUENCE:0
END:VEVENT
END:VCALENDAR
