BEGIN:VCALENDAR
VERSION:2.0
PRODID:-//Golfe Saint-Tropez//Events//FR
CALSCALE:GREGORIAN
METHOD:PUBLISH
BEGIN:VEVENT
UID:69e4f6ebf2a8e@golfe-saint-tropez.com
DTSTAMP:20260419T153819Z
DTSTART:20260710T000000
DTEND:20260710T000000
SUMMARY:L’apéro des Frenchy
DESCRIPTION:Envie de vivre une soirée estivale inoubliable dans le Golfe de Saint-Tropez ? Ne manquez pas L’apéro des Frenchy\, un […]\n\nPlus d'infos : https://golfe-saint-tropez.com/evenement/saint-tropez/lapero-des-frenchy/
LOCATION:1\, Montée de la Citadelle\, 83990 Saint-Tropez
STATUS:CONFIRMED
SEQUENCE:0
END:VEVENT
END:VCALENDAR
