BEGIN:VCALENDAR
VERSION:2.0
PRODID:-//Golfe Saint-Tropez//Events//FR
CALSCALE:GREGORIAN
METHOD:PUBLISH
BEGIN:VEVENT
UID:69ebdbde15c56@golfe-saint-tropez.com
DTSTAMP:20260424T210846Z
DTSTART:20260515T075440
DTEND:20260518T075440
SUMMARY:Les Bravades de Saint-Tropez
DESCRIPTION:Préparez-vous à une immersion spectaculaire dans l’histoire et la tradition provençale ! Ne manquez pas Les Bravades de Saint-Tropez\, l’événement […]\n\nPlus d'infos : https://golfe-saint-tropez.com/evenement/saint-tropez/les-bravades-de-saint-tropez/
LOCATION:Centre-ville et Port de Saint-Tropez\, 83990 Saint-Tropez
STATUS:CONFIRMED
SEQUENCE:0
END:VEVENT
END:VCALENDAR
