BEGIN:VCALENDAR
VERSION:2.0
PRODID:-//Golfe Saint-Tropez//Events//FR
CALSCALE:GREGORIAN
METHOD:PUBLISH
BEGIN:VEVENT
UID:69eb7b95088e4@golfe-saint-tropez.com
DTSTAMP:20260424T141757Z
DTSTART:20260502T000000
DTEND:20260504T000000
SUMMARY:Les Chefs à Saint-Tropez fêtent les producteurs
DESCRIPTION:Préparez vos papilles pour l’un des événements gastronomiques les plus attendus du printemps dans le Var ! Le samedi 2 […]\n\nPlus d'infos : https://golfe-saint-tropez.com/evenement/saint-tropez/les-chefs-a-saint-tropez-fetent-les-producteurs/
LOCATION:Place des Lices\, 83990 Saint-Tropez
STATUS:CONFIRMED
SEQUENCE:0
END:VEVENT
END:VCALENDAR
