BEGIN:VCALENDAR
VERSION:2.0
PRODID:-//Golfe Saint-Tropez//Events//FR
CALSCALE:GREGORIAN
METHOD:PUBLISH
BEGIN:VEVENT
UID:69e7f76889ac8@golfe-saint-tropez.com
DTSTAMP:20260421T221712Z
DTSTART:20260625T103956
DTEND:20260628T103956
SUMMARY:Les Nuits de la Ponche
DESCRIPTION:Plongez dans l’ambiance envoûtante des Nuits de la Ponche\, un événement incontournable du Golfe de Saint-Tropez qui célèbre l’art de […]\n\nPlus d'infos : https://golfe-saint-tropez.com/evenement/saint-tropez/les-nuits-de-la-ponche/
LOCATION:Quai de la Pesquière 83990 Saint-Tropez
STATUS:CONFIRMED
SEQUENCE:0
END:VEVENT
END:VCALENDAR
