BEGIN:VCALENDAR
VERSION:2.0
PRODID:-//Golfe Saint-Tropez//Events//FR
CALSCALE:GREGORIAN
METHOD:PUBLISH
BEGIN:VEVENT
UID:69e8b71be0000@golfe-saint-tropez.com
DTSTAMP:20260422T115507Z
DTSTART:20260505T080000
DTEND:20260505T130000
SUMMARY:Marché du Mardi Saint-Tropez – 5 mai 2026
DESCRIPTION:Du lundi 1er janvier au dimanche 31 décembre 2028Marché ouvert chaque mardi et samedi matin\, de 8h à 13h Le […]\n\nPlus d'infos : https://golfe-saint-tropez.com/evenement/saint-tropez/marche-du-mardi-saint-tropez-2026-05-05/
LOCATION:la place des Lices Saint-Tropez
STATUS:CONFIRMED
SEQUENCE:0
END:VEVENT
END:VCALENDAR
