BEGIN:VCALENDAR
VERSION:2.0
PRODID:-//Golfe Saint-Tropez//Events//FR
CALSCALE:GREGORIAN
METHOD:PUBLISH
BEGIN:VEVENT
UID:69e7ccd70fbc1@golfe-saint-tropez.com
DTSTAMP:20260421T191535Z
DTSTART:20260421T080000
DTEND:20260421T130000
SUMMARY:Marché du Mardi Saint-Tropez
DESCRIPTION:Du lundi 1er janvier au dimanche 31 décembre 2028Marché ouvert chaque mardi et samedi matin\, de 8h à 13h Le […]\n\nPlus d'infos : https://golfe-saint-tropez.com/evenement/saint-tropez/marche-du-mardi-saint-tropez/
LOCATION:la place des Lices Saint-Tropez
STATUS:CONFIRMED
SEQUENCE:0
END:VEVENT
END:VCALENDAR
