BEGIN:VCALENDAR
VERSION:2.0
PRODID:-//Golfe Saint-Tropez//Events//FR
CALSCALE:GREGORIAN
METHOD:PUBLISH
BEGIN:VEVENT
UID:69e4e15c24147@golfe-saint-tropez.com
DTSTAMP:20260419T140620Z
DTSTART:20260502T080000
DTEND:20260502T130000
SUMMARY:Marché du Samedi Saint-Tropez – 2 mai 2026
DESCRIPTION:Du lundi 1er janvier au dimanche 31 décembre 2028Marché ouvert chaque mardi et samedi matin\, de 8h à 13h Le […]\n\nPlus d'infos : https://golfe-saint-tropez.com/evenement/saint-tropez/marche-du-samedi-saint-tropez-2026-05-02/
LOCATION:la place des Lices Saint-Tropez
STATUS:CONFIRMED
SEQUENCE:0
END:VEVENT
END:VCALENDAR
