BEGIN:VCALENDAR
VERSION:2.0
PRODID:-//Golfe Saint-Tropez//Events//FR
CALSCALE:GREGORIAN
METHOD:PUBLISH
BEGIN:VEVENT
UID:69ea3d835fa1b@golfe-saint-tropez.com
DTSTAMP:20260423T154051Z
DTSTART:20260425T080000
DTEND:20260425T130000
SUMMARY:Marché du Samedi Saint-Tropez
DESCRIPTION:Du lundi 1er janvier au dimanche 31 décembre 2028Marché ouvert chaque mardi et samedi matin\, de 8h à 13h Le […]\n\nPlus d'infos : https://golfe-saint-tropez.com/evenement/saint-tropez/marche-du-samedi-saint-tropez/
LOCATION:la place des Lices Saint-Tropez
STATUS:CONFIRMED
SEQUENCE:0
END:VEVENT
END:VCALENDAR
