BEGIN:VCALENDAR
VERSION:2.0
PRODID:-//Golfe Saint-Tropez//Events//FR
CALSCALE:GREGORIAN
METHOD:PUBLISH
BEGIN:VEVENT
UID:69e4f6bde075d@golfe-saint-tropez.com
DTSTAMP:20260419T153733Z
DTSTART:20260530T000000
DTEND:20260530T000000
SUMMARY:Nettoyons le Sud à Saint-Tropez
DESCRIPTION:Et si vous contribuiez à préserver la beauté du Golfe de Saint-Tropez ? Participez à l’opération Nettoyons le Sud à […]\n\nPlus d'infos : https://golfe-saint-tropez.com/evenement/saint-tropez/nettoyons-le-sud-a-saint-tropez/
LOCATION:Plage des Canoubiers\, 83990 Saint-Tropez
STATUS:CONFIRMED
SEQUENCE:0
END:VEVENT
END:VCALENDAR
