BEGIN:VCALENDAR
VERSION:2.0
PRODID:-//Golfe Saint-Tropez//Events//FR
CALSCALE:GREGORIAN
METHOD:PUBLISH
BEGIN:VEVENT
UID:69e4e15758a04@golfe-saint-tropez.com
DTSTAMP:20260419T140615Z
DTSTART:20260523T173000
DTEND:20260523T220000
SUMMARY:Nuit européenne des Musées
DESCRIPTION:Plongez dans l’histoire lors de la Nuit européenne des Musées à Saint-Tropez ! Cet événement culturel incontournable du Golfe de […]\n\nPlus d'infos : https://golfe-saint-tropez.com/evenement/saint-tropez/nuit-europeenne-des-musees-2/
LOCATION:1\, Montée de la Citadelle\, 83990 Saint-Tropez
STATUS:CONFIRMED
SEQUENCE:0
END:VEVENT
END:VCALENDAR
