BEGIN:VCALENDAR
VERSION:2.0
PRODID:-//Golfe Saint-Tropez//Events//FR
CALSCALE:GREGORIAN
METHOD:PUBLISH
BEGIN:VEVENT
UID:69e7906b4955e@golfe-saint-tropez.com
DTSTAMP:20260421T145747Z
DTSTART:20260829T000000
DTEND:20260830T000000
SUMMARY:Suzuki Master Fishing – Pêche
DESCRIPTION:Plongez au cœur de l’action avec le Suzuki Master Fishing\, un événement incontournable pour les passionnés de pêche dans le […]\n\nPlus d'infos : https://golfe-saint-tropez.com/evenement/saint-tropez/suzuki-master-fishing-peche/
LOCATION:Société nautique de Saint-Tropez\, Quai Trullet\, Nouveau port\, BP72\, 83992 Saint-Tropez
STATUS:CONFIRMED
SEQUENCE:0
END:VEVENT
END:VCALENDAR
