BEGIN:VCALENDAR
VERSION:2.0
PRODID:-//Golfe Saint-Tropez//Events//FR
CALSCALE:GREGORIAN
METHOD:PUBLISH
BEGIN:VEVENT
UID:69e4e2b3d73bf@golfe-saint-tropez.com
DTSTAMP:20260419T141203Z
DTSTART:20260122T102930
DTEND:20260618T102930
SUMMARY:Ateliers d’écriture littéraire : Ma fabrique d’écriture
DESCRIPTION:Envie de libérer votre créativité et de donner vie à vos histoires ? Les ateliers d’écriture littéraire « Ma fabrique […]\n\nPlus d'infos : https://golfe-saint-tropez.com/evenement/sainte-maxime/ateliers-decriture-litteraire-ma-fabrique-decriture/
LOCATION:Médiathèque Municipale Jehanne Arnaud\, 107 route du Plan de la Tour\, Carré Léon Gaumont\, 83120 Sainte-Maxime
STATUS:CONFIRMED
SEQUENCE:0
END:VEVENT
END:VCALENDAR
