BEGIN:VCALENDAR
VERSION:2.0
PRODID:-//Golfe Saint-Tropez//Events//FR
CALSCALE:GREGORIAN
METHOD:PUBLISH
BEGIN:VEVENT
UID:69e4f8fb1d418@golfe-saint-tropez.com
DTSTAMP:20260419T154707Z
DTSTART:20260414T000000
DTEND:20260422T000000
SUMMARY:Ciné mini-pitchouns : la ronde des couleurs
DESCRIPTION:Plongez dans un univers poétique et coloré avec Ciné mini-pitchouns : la ronde des couleurs\, un événement spécialement conçu pour […]\n\nPlus d'infos : https://golfe-saint-tropez.com/evenement/sainte-maxime/cine-mini-pitchouns-la-ronde-des-couleurs-2/
LOCATION:Médiathèque Municipale Jehanne Arnaud\, 107 route du Plan de la Tour\, Carré Léon Gaumont\, 83120 Sainte-Maxime
STATUS:CONFIRMED
SEQUENCE:0
END:VEVENT
END:VCALENDAR
