BEGIN:VCALENDAR
VERSION:2.0
PRODID:-//Golfe Saint-Tropez//Events//FR
CALSCALE:GREGORIAN
METHOD:PUBLISH
BEGIN:VEVENT
UID:69e50dab0d80e@golfe-saint-tropez.com
DTSTAMP:20260419T171523Z
DTSTART:20260416T000000
DTEND:20260424T000000
SUMMARY:Ciné pitchouns : hola frida
DESCRIPTION:Plongez dans l’univers vibrant de Frida Kahlo avec l’événement Ciné pitchouns : Hola Frida\, une animation culturelle spécialement conçue pour […]\n\nPlus d'infos : https://golfe-saint-tropez.com/evenement/sainte-maxime/cine-pitchouns-hola-frida-2/
LOCATION:Médiathèque Municipale Jehanne Arnaud\, 107 route du Plan de la Tour\, Carré Léon Gaumont\, 83120 Sainte-Maxime
STATUS:CONFIRMED
SEQUENCE:0
END:VEVENT
END:VCALENDAR
