BEGIN:VCALENDAR
VERSION:2.0
PRODID:-//Golfe Saint-Tropez//Events//FR
CALSCALE:GREGORIAN
METHOD:PUBLISH
BEGIN:VEVENT
UID:69e5364131456@golfe-saint-tropez.com
DTSTAMP:20260419T200833Z
DTSTART:20260506T000000
DTEND:20260510T000000
SUMMARY:Fest’Italia
DESCRIPTION:Plongez dans l’ambiance ensoleillée de l’Italie lors du Fest’Italia\, un événement incontournable du Golfe de Saint-Tropez ! Du 6 au […]\n\nPlus d'infos : https://golfe-saint-tropez.com/evenement/sainte-maxime/festitalia/
LOCATION:Promenade A. Simon-Lorière\, 83120 Sainte-Maxime
STATUS:CONFIRMED
SEQUENCE:0
END:VEVENT
END:VCALENDAR
