BEGIN:VCALENDAR
VERSION:2.0
PRODID:-//Golfe Saint-Tropez//Events//FR
CALSCALE:GREGORIAN
METHOD:PUBLISH
BEGIN:VEVENT
UID:69e4e1569f0c1@golfe-saint-tropez.com
DTSTAMP:20260419T140614Z
DTSTART:20260607T000000
DTEND:20260628T000000
SUMMARY:Festival : La Magie des Orgues
DESCRIPTION:Plongez dans l’univers envoûtant des orgues avec le Festival La Magie des Orgues\, un événement culturel incontournable du Golfe de […]\n\nPlus d'infos : https://golfe-saint-tropez.com/evenement/sainte-maxime/festival-la-magie-des-orgues/
LOCATION:3 place Mireille de Germond\, 83120 Sainte-Maxime
STATUS:CONFIRMED
SEQUENCE:0
END:VEVENT
END:VCALENDAR
