BEGIN:VCALENDAR
VERSION:2.0
PRODID:-//Golfe Saint-Tropez//Events//FR
CALSCALE:GREGORIAN
METHOD:PUBLISH
BEGIN:VEVENT
UID:69e50d0a211cc@golfe-saint-tropez.com
DTSTAMP:20260419T171242Z
DTSTART:20260621T000000
DTEND:20260621T000000
SUMMARY:Fête de la Musique à Sainte-Maxime
DESCRIPTION:Le 21 juin 2026\, Sainte-Maxime s’anime pour la Fête de la Musique\, un événement incontournable du Golfe de Saint-Tropez ! […]\n\nPlus d'infos : https://golfe-saint-tropez.com/evenement/sainte-maxime/fete-de-la-musique-a-sainte-maxime/
LOCATION:Centre-ville de Sainte-Maxime\, 83120 Sainte-Maxime
STATUS:CONFIRMED
SEQUENCE:0
END:VEVENT
END:VCALENDAR
