BEGIN:VCALENDAR
VERSION:2.0
PRODID:-//Golfe Saint-Tropez//Events//FR
CALSCALE:GREGORIAN
METHOD:PUBLISH
BEGIN:VEVENT
UID:69e4f86a6f2d3@golfe-saint-tropez.com
DTSTAMP:20260419T154442Z
DTSTART:20260624T000000
DTEND:20260624T000000
SUMMARY:Fête de la Saint-Jean
DESCRIPTION:Plongez dans la magie des traditions estivales avec la Fête de la Saint-Jean à Sainte-Maxime\, un événement incontournable du Golfe […]\n\nPlus d'infos : https://golfe-saint-tropez.com/evenement/sainte-maxime/fete-de-la-saint-jean/
LOCATION:Plage Luc Provensal et centre-ville\, 83120 Sainte-Maxime
STATUS:CONFIRMED
SEQUENCE:0
END:VEVENT
END:VCALENDAR
