BEGIN:VCALENDAR
VERSION:2.0
PRODID:-//Golfe Saint-Tropez//Events//FR
CALSCALE:GREGORIAN
METHOD:PUBLISH
BEGIN:VEVENT
UID:69e4e26507d82@golfe-saint-tropez.com
DTSTAMP:20260419T141045Z
DTSTART:20260629T000000
DTEND:20260629T000000
SUMMARY:Fête de la Saint-Pierre
DESCRIPTION:Plongez au cœur des traditions maritimes du Golfe de Saint-Tropez lors de la Fête de la Saint-Pierre à Sainte-Maxime\, un […]\n\nPlus d'infos : https://golfe-saint-tropez.com/evenement/sainte-maxime/fete-de-la-saint-pierre/
LOCATION:Centre-ville\, 83120 Sainte-Maxime
STATUS:CONFIRMED
SEQUENCE:0
END:VEVENT
END:VCALENDAR
