BEGIN:VCALENDAR
VERSION:2.0
PRODID:-//Golfe Saint-Tropez//Events//FR
CALSCALE:GREGORIAN
METHOD:PUBLISH
BEGIN:VEVENT
UID:69e863d5a413a@golfe-saint-tropez.com
DTSTAMP:20260422T055949Z
DTSTART:20260724T000000
DTEND:20260724T000000
SUMMARY:Immersion aquatique
DESCRIPTION:Plongez dans les eaux cristallines du Golfe de Saint-Tropez lors de l’événement Immersion aquatique à Sainte-Maxime\, le 24 juillet 2026 […]\n\nPlus d'infos : https://golfe-saint-tropez.com/evenement/sainte-maxime/immersion-aquatique-3/
LOCATION:La Pointe des Sardinaux\, 1 avenue Général Touzet du Vigier\, 83120 Sainte-Maxime
STATUS:CONFIRMED
SEQUENCE:0
END:VEVENT
END:VCALENDAR
