BEGIN:VCALENDAR
VERSION:2.0
PRODID:-//Golfe Saint-Tropez//Events//FR
CALSCALE:GREGORIAN
METHOD:PUBLISH
BEGIN:VEVENT
UID:69e88af4231fb@golfe-saint-tropez.com
DTSTAMP:20260422T084644Z
DTSTART:20260731T000000
DTEND:20260731T000000
SUMMARY:Immersion aquatique
DESCRIPTION:Plongez au cœur des fonds marins du Golfe de Saint-Tropez lors de l’événement Immersion aquatique à Sainte-Maxime ! Le 31 […]\n\nPlus d'infos : https://golfe-saint-tropez.com/evenement/sainte-maxime/immersion-aquatique-4/
LOCATION:La Pointe des Sardinaux\, 1 avenue Général Touzet du Vigier\, 83120 Sainte-Maxime
STATUS:CONFIRMED
SEQUENCE:0
END:VEVENT
END:VCALENDAR
