BEGIN:VCALENDAR
VERSION:2.0
PRODID:-//Golfe Saint-Tropez//Events//FR
CALSCALE:GREGORIAN
METHOD:PUBLISH
BEGIN:VEVENT
UID:69e88b51c587f@golfe-saint-tropez.com
DTSTAMP:20260422T084817Z
DTSTART:20260807T000000
DTEND:20260807T000000
SUMMARY:Immersion aquatique
DESCRIPTION:Plongez dans les eaux cristallines du Golfe de Saint-Tropez lors de l’événement Immersion aquatique à Sainte-Maxime\, le vendredi 7 août […]\n\nPlus d'infos : https://golfe-saint-tropez.com/evenement/sainte-maxime/immersion-aquatique-5/
LOCATION:La Pointe des Sardinaux\, 1 avenue Général Touzet du Vigier\, 83120 Sainte-Maxime
STATUS:CONFIRMED
SEQUENCE:0
END:VEVENT
END:VCALENDAR
