BEGIN:VCALENDAR
VERSION:2.0
PRODID:-//Golfe Saint-Tropez//Events//FR
CALSCALE:GREGORIAN
METHOD:PUBLISH
BEGIN:VEVENT
UID:69e8a0e719d8f@golfe-saint-tropez.com
DTSTAMP:20260422T102023Z
DTSTART:20260717T165902
DTEND:20260717T165902
SUMMARY:Immersion Aquatique
DESCRIPTION:Plongez au cœur des fonds marins du Golfe de Saint-Tropez lors de l’événement Immersion Aquatique à Sainte-Maxime ! Le 17 […]\n\nPlus d'infos : https://golfe-saint-tropez.com/evenement/sainte-maxime/immersion-aquatique-9/
LOCATION:La Pointe des Sardinaux\, 1 avenue Général Touzet du Vigier\, 83120 Sainte-Maxime
STATUS:CONFIRMED
SEQUENCE:0
END:VEVENT
END:VCALENDAR
