BEGIN:VCALENDAR
VERSION:2.0
PRODID:-//Golfe Saint-Tropez//Events//FR
CALSCALE:GREGORIAN
METHOD:PUBLISH
BEGIN:VEVENT
UID:69e863b5d2c2a@golfe-saint-tropez.com
DTSTAMP:20260422T055917Z
DTSTART:20260821T000000
DTEND:20260821T000000
SUMMARY:Immersion aquatique
DESCRIPTION:Plongez dans une aventure marine inoubliable avec l’événement Immersion aquatique à Sainte-Maxime\, au cœur du Golfe de Saint-Tropez ! Le […]\n\nPlus d'infos : https://golfe-saint-tropez.com/evenement/sainte-maxime/immersion-aquatique/
LOCATION:La Pointe des Sardinaux\, 1 avenue Général Touzet du Vigier\, 83120 Sainte-Maxime
STATUS:CONFIRMED
SEQUENCE:0
END:VEVENT
END:VCALENDAR
