BEGIN:VCALENDAR
VERSION:2.0
PRODID:-//Golfe Saint-Tropez//Events//FR
CALSCALE:GREGORIAN
METHOD:PUBLISH
BEGIN:VEVENT
UID:69e4d8c0d1b70@golfe-saint-tropez.com
DTSTAMP:20260419T132936Z
DTSTART:20260313T000000
DTEND:20260426T000000
SUMMARY:Journées d’initiations gratuites au golf
DESCRIPTION:Envie de découvrir le golf dans un cadre exceptionnel ? Les Journées d’initiations gratuites au golf à Sainte-Maxime sont l’occasion […]\n\nPlus d'infos : https://golfe-saint-tropez.com/evenement/sainte-maxime/journees-dinitiations-gratuites-au-golf-2/
LOCATION:Golf Blue Green Sainte-Maxime\, Avenue du Débarquement\, 83120 Sainte-Maxime
STATUS:CONFIRMED
SEQUENCE:0
END:VEVENT
END:VCALENDAR
