BEGIN:VCALENDAR
VERSION:2.0
PRODID:-//Golfe Saint-Tropez//Events//FR
CALSCALE:GREGORIAN
METHOD:PUBLISH
BEGIN:VEVENT
UID:69e7cdf0c3785@golfe-saint-tropez.com
DTSTAMP:20260421T192016Z
DTSTART:20250101T160851
DTEND:20261231T160851
SUMMARY:Le marché couvert de Sainte Maxime
DESCRIPTION:Plongez au cœur de l’authenticité du Golfe de Saint-Tropez en découvrant le marché couvert de Sainte-Maxime\, un événement incontournable qui […]\n\nPlus d'infos : https://golfe-saint-tropez.com/evenement/sainte-maxime/le-marche-couvert-de-sainte-maxime/
LOCATION:Rue Fernand Bessy\, 83120 Sainte-Maxime
STATUS:CONFIRMED
SEQUENCE:0
END:VEVENT
END:VCALENDAR
