BEGIN:VCALENDAR
VERSION:2.0
PRODID:-//Golfe Saint-Tropez//Events//FR
CALSCALE:GREGORIAN
METHOD:PUBLISH
BEGIN:VEVENT
UID:69e50c9be730a@golfe-saint-tropez.com
DTSTAMP:20260419T171051Z
DTSTART:20260501T080000
DTEND:20260501T130000
SUMMARY:Le Marché Mermoz du Vendredi Sainte-Maxime – 1 mai 2026
DESCRIPTION:Le marché de Sainte-Maxime se déploie chaque vendredi matin sur la place et le parking Jean-Mermoz\, à deux pas du […]\n\nPlus d'infos : https://golfe-saint-tropez.com/evenement/sainte-maxime/le-marche-mermoz-du-vendredi-sainte-maxime-2026-05-01/
LOCATION:Place Jean Mermoz Sainte-Maxime
STATUS:CONFIRMED
SEQUENCE:0
END:VEVENT
END:VCALENDAR
